BEGIN:VCALENDAR
VERSION:2.0
PRODID:-//hacksw/handcal//NONSGML v1.0//EN
BEGIN:VEVENT
DTSTART:20250916T160000Z
DTEND:20250916T203000Z
LOCATION:Tropical Corner \nQuai de Cologny 5 - 9 \n1223 Cologny
ORGANIZER;CN=Guillaume Locher - GENEVA CHAPTER:MAILTO:guillaume@locher-ge.ch
SUMMARY:Planche à voile et afterwork au Tropical Corner
DESCRIPTION:L'EPFL Alumni Genève a le plaisir de vous inviter à une initiation planche à voile. Cet évènement aura lieu le mardi 16 septembre à 17h15, au Tropical Corner.L'initiation planche à voile sera suivie...
URL:https://epflalumni.ch/fr/group/geneva-chapter/37/calendar/planche-a-voile-et-afterwork-au-tropical-corner/2025/09/16/999
BEGIN:VALARM
TRIGGER:-P0DT1H0M0S
ACTION:DISPLAY
END:VALARM
END:VEVENT
END:VCALENDAR