BEGIN:VCALENDAR
VERSION:2.0
PRODID:-//hacksw/handcal//NONSGML v1.0//EN
BEGIN:VEVENT
DTSTART:20250906T080000Z
DTEND:20250906T103000Z
LOCATION:National Museum of China (中国国家博物馆)
ORGANIZER;CN=Shun Zhao - CHINA - BEIJING CHAPTER:MAILTO:zhaoshun1107@163.com
SUMMARY:Visit to the exhibition “Cosmos Archaeology: Exploring Time and Space"
DESCRIPTION:EPFL Beijing Alumni Chapter warmly invite you to join their autumn event: a group visit to the exhibition “Cosmos Archaeology: Exploring Time and Space".  \nDate: September 6, 2025...
URL:https://epflalumni.ch/fr/group/china-beijing-chapter/61/calendar/visit-to-the-exhibition-cosmos-archaeology-exploring-time-and-space/2025/09/06/990
BEGIN:VALARM
TRIGGER:-P0DT1H0M0S
ACTION:DISPLAY
END:VALARM
END:VEVENT
END:VCALENDAR