BEGIN:VCALENDAR
VERSION:2.0
PRODID:-//hacksw/handcal//NONSGML v1.0//EN
BEGIN:VEVENT
DTSTART:20250918T160000Z
DTEND:20250918T183000Z
LOCATION:East Campus USI-SUPSI \nVia la Santa 1 \nCH-6962  Lugano-Viganello
ORGANIZER;CN=Anna Juda - SOUTHERN SWITZERLAND CHAPTER:MAILTO:annab.juda@gmail.com
SUMMARY:Réservez la date – Visite de l’Artificial Intelligence Institute USI‑SUPSI
DESCRIPTION:Chers alumni et chères alumnaes,L’été est là, nos corps sont à la plage… mais nos esprits préparent déjà le prochain rendez-vous de notre communauté EPFL Alumni au Tessin !Nous avons le plaisir de...
URL:https://epflalumni.ch/fr/group/southern-switzerland-chapter/67/calendar/reservez-la-date-visite-de-l-artificial-intelligence-institute-usi-supsi/2025/09/18/989
BEGIN:VALARM
TRIGGER:-P0DT1H0M0S
ACTION:DISPLAY
END:VALARM
END:VEVENT
END:VCALENDAR