BEGIN:VCALENDAR
VERSION:2.0
PRODID:-//hacksw/handcal//NONSGML v1.0//EN
BEGIN:VEVENT
DTSTART:20250713T233000Z
DTEND:20250714T030000Z
LOCATION:Sheraton Palo Alto - Cardinal Lounge \n625, El Camino Real \n94301 PALO ALTO
ORGANIZER;CN=Chiara Bersano - U.S. WEST COAST CHAPTER:MAILTO:chiara.bersano@gmail.com
SUMMARY:Meet with EPFL President Anna Fontcuberta i Morral in Palo Alto
DESCRIPTION:As announced previously, the EPFL Alumni West Coast chapter is eager to welcome Prof. Anna Fontcuberta i Morral, President of the EPFL. \nThe event is a “meet and greet” social, so no presentation or ...
URL:https://epflalumni.ch/fr/group/u-s-west-coast-chapter/48/calendar/meet-with-epfl-president-anna-fontcuberta-i-morral-in-palo-alto/2025/07/14/977
BEGIN:VALARM
TRIGGER:-P0DT1H0M0S
ACTION:DISPLAY
END:VALARM
END:VEVENT
END:VCALENDAR