BEGIN:VCALENDAR
VERSION:2.0
PRODID:-//hacksw/handcal//NONSGML v1.0//EN
BEGIN:VEVENT
DTSTART:20250703T160000Z
DTEND:20250703T180000Z
LOCATION:Café Mozart \n2, Rue de la Grotte \n1003 LAUSANNE
ORGANIZER;CN=Valentine Magnin - WOMEN'S CLUB:MAILTO:valentine.magnin92@gmail.com
SUMMARY:Apéro estival à Lausanne
DESCRIPTION:Cela fait maintenant 3 ans que notre fameux apéro estival a lieu ! Nous vous proposons donc pour la 4ème fois cet événement incontournable du début de l'été. Pour cette édition, nous changeons de lieu...
URL:https://epflalumni.ch/fr/group/women-s-club/34/calendar/apero-estival-a-lausanne/2025/07/03/966
BEGIN:VALARM
TRIGGER:-P0DT1H0M0S
ACTION:DISPLAY
END:VALARM
END:VEVENT
END:VCALENDAR