BEGIN:VCALENDAR
VERSION:2.0
PRODID:-//hacksw/handcal//NONSGML v1.0//EN
BEGIN:VEVENT
DTSTART:20250622T020000Z
DTEND:20250622T080000Z
LOCATION:Yuyuantan Park
ORGANIZER;CN=Zhanbing Ren - CHINA - BEIJING CHAPTER:MAILTO:zbren2011@gmail.com
SUMMARY:Summer Gathering Together IHEID Alumni Beijing
DESCRIPTION:Dear all EPFL alumni and alumnae in Beijing area, \nWe are pleased to invite all of you to join us for an outing at Beijing Yuyuantan Park together with IHEID(日内瓦国际关系及发展高等学院) Alumni: \nDate...
URL:https://epflalumni.ch/fr/group/china-beijing-chapter/61/calendar/summer-gathering-together-iheid-alumni-beijing/2025/06/22/965
BEGIN:VALARM
TRIGGER:-P0DT1H0M0S
ACTION:DISPLAY
END:VALARM
END:VEVENT
END:VCALENDAR