BEGIN:VCALENDAR
VERSION:2.0
PRODID:-//hacksw/handcal//NONSGML v1.0//EN
BEGIN:VEVENT
DTSTART:20250617T180000Z
DTEND:20250617T190000Z
LOCATION:
ORGANIZER;CN=Anita Maric Fasel - WOMEN'S CLUB:MAILTO:anita.maric.fasel@gmail.com
SUMMARY:Women's Club online webinar: Let's Talk Money Honey
DESCRIPTION:The EPFL Alumni Women's Club is happy to invite women graduates to this webinar.\nOlga Miler is the co-founder of SmartPurse, an innovative financial platform that empowers women to become more...
URL:https://epflalumni.ch/fr/group/women-s-club/34/calendar/women-s-club-online-webinar-let-s-talk-money-honey/2025/06/17/947
BEGIN:VALARM
TRIGGER:-P0DT1H0M0S
ACTION:DISPLAY
END:VALARM
END:VEVENT
END:VCALENDAR