BEGIN:VCALENDAR
VERSION:2.0
PRODID:-//hacksw/handcal//NONSGML v1.0//EN
BEGIN:VEVENT
DTSTART:20250514T170000Z
DTEND:20250514T180000Z
LOCATION:
ORGANIZER;CN=EPFL Alumni - WOMEN'S CLUB:MAILTO:alumni@epfl.ch
SUMMARY:Women's Club online webinar:  Your Money Hygiene
DESCRIPTION:The EPFL Alumni Women's Club is happy to invite women graduates to two webinars.\nOlga Miler is the co-founder of SmartPurse, an innovative financial platform that empowers women to become more...
URL:https://epflalumni.ch/fr/group/women-s-club/34/calendar/women-s-club-online-webinar-your-money-hygiene/2025/05/14/946
BEGIN:VALARM
TRIGGER:-P0DT1H0M0S
ACTION:DISPLAY
END:VALARM
END:VEVENT
END:VCALENDAR