BEGIN:VCALENDAR
VERSION:2.0
PRODID:-//hacksw/handcal//NONSGML v1.0//EN
BEGIN:VEVENT
DTSTART:20250515T160000Z
DTEND:20250515T190000Z
LOCATION:Waves Lounge - Rooftop de l’hôtel Beaulac \n2, Esplanade Léopold-Robert \n2000 NEUCHATEL
ORGANIZER;CN=EPFL Alumni - BE-FR-NE-JU CHAPTER:MAILTO:alumni@epfl.ch
SUMMARY:Rencontre conviviale à Neuchâtel – apéritif afterwork
DESCRIPTION:Votre antenne EPFL Alumni BE-FR-NE-JU a le plaisir de vous inviter à un apéritif convivial :📅 jeudi 15 mai 2025\n🕕 dès 18h00\n📍 rooftop de l’hôtel Beaulac, Neuchâtel\nCet évènement est une occasion...
URL:https://epflalumni.ch/fr/group/be-fr-ne-ju-chapter/46/calendar/rencontre-conviviale-a-neuchatel-aperitif-afterwork/2025/05/15/942
BEGIN:VALARM
TRIGGER:-P0DT1H0M0S
ACTION:DISPLAY
END:VALARM
END:VEVENT
END:VCALENDAR