BEGIN:VCALENDAR
VERSION:2.0
PRODID:-//hacksw/handcal//NONSGML v1.0//EN
BEGIN:VEVENT
DTSTART:20250420T073000Z
DTEND:20250420T120000Z
LOCATION:Shanghai International Student Home - Dunyi Hall \nNo. 220 Sichuan Middle Road, Huangpu District
ORGANIZER;CN=Zhanbing Ren - CHINA - SHANGHAI CHAPTER:MAILTO:zbren2011@gmail.com
SUMMARY:Cutting-edge Technology Seminar
DESCRIPTION:Dear All EPFL Alumni in Shanghai area,We have a lot of EPFL Alumni working in Cutting-edge Technology and a lot of them are real leader in their respective field. Today we are extremely lucky to be...
URL:https://epflalumni.ch/fr/group/china-shanghai-chapter/39/calendar/cutting-edge-technology-seminar/2025/04/20/936
BEGIN:VALARM
TRIGGER:-P0DT1H0M0S
ACTION:DISPLAY
END:VALARM
END:VEVENT
END:VCALENDAR