BEGIN:VCALENDAR
VERSION:2.0
PRODID:-//hacksw/handcal//NONSGML v1.0//EN
BEGIN:VEVENT
DTSTART:20250512T173000Z
DTEND:20250512T193000Z
LOCATION:Bellinzona - Grottino Ticinese \n1, Via Luigi Lavizzari \n6500 BELLINZONA
ORGANIZER;CN=Anna Juda - SOUTHERN SWITZERLAND CHAPTER:MAILTO:annab.juda@gmail.com
SUMMARY:Dîner avec la Présidente de l’EPFL le 12 mai
DESCRIPTION:Chères et chers Alumni de l’EPFL,C’est avec grand plaisir que nous vous invitons à un dîner spécial :\nla présidente de l’EPFL, Anna Fontcuberta i Morral, sera avec nous au Tessin le lundi 12 mai 2025...
URL:https://epflalumni.ch/fr/group/southern-switzerland-chapter/67/calendar/diner-avec-la-presidente-de-l-epfl-le-12-mai/2025/05/12/932
BEGIN:VALARM
TRIGGER:-P0DT1H0M0S
ACTION:DISPLAY
END:VALARM
END:VEVENT
END:VCALENDAR