BEGIN:VCALENDAR
VERSION:2.0
PRODID:-//hacksw/handcal//NONSGML v1.0//EN
BEGIN:VEVENT
DTSTART:20250331T150000Z
DTEND:20250331T200000Z
LOCATION:KEZO, Hinwil \n2, Wildbachstrasse \n8340 HINWIL
ORGANIZER;CN=Daniel Rüffer - EASTERN SWITZERLAND CHAPTER:MAILTO:mail@danielrueffer.ch
SUMMARY:Visite de KEZO à Hinwil
DESCRIPTION:Invitation à la visite de KEZO – EPFL Alumni Suisse orientale\nL'antenne EPFL Alumni Suisse orientale  a le plaisir de vous inviter à une visite exclusive de KEZO à Hinwil le 31 mars. Découvrez l’une ...
URL:https://epflalumni.ch/fr/group/eastern-switzerland-chapter/27/calendar/visite-de-kezo-a-hinwil/2025/03/31/914
BEGIN:VALARM
TRIGGER:-P0DT1H0M0S
ACTION:DISPLAY
END:VALARM
END:VEVENT
END:VCALENDAR