BEGIN:VCALENDAR
VERSION:2.0
PRODID:-//hacksw/handcal//NONSGML v1.0//EN
BEGIN:VEVENT
DTSTART:20241222T040000Z
DTEND:20241222T080000Z
LOCATION:Abby Road Restaurant
ORGANIZER;CN=Zhanbing Ren - CHINA - SHANGHAI CHAPTER:MAILTO:zbren2011@gmail.com
SUMMARY:2024 Year-End Gathering
DESCRIPTION:Dear all EPFL alumni and alumnae in Shanghai area,\nBy closing the year 2024 with full of good memories and welcoming new year 2025 coming with high speed, we are pleased to invite all of you to the...
URL:https://epflalumni.ch/fr/group/china-shanghai-chapter/39/calendar/2024-year-end-gathering/2024/12/22/853
BEGIN:VALARM
TRIGGER:-P0DT1H0M0S
ACTION:DISPLAY
END:VALARM
END:VEVENT
END:VCALENDAR