BEGIN:VCALENDAR
VERSION:2.0
PRODID:-//hacksw/handcal//NONSGML v1.0//EN
BEGIN:VEVENT
DTSTART:20250121T163000Z
DTEND:20250121T203000Z
LOCATION:Satellite, EPFL \n1015 Lausanne
ORGANIZER;CN=Aurélie Flandi - VAUD/VALAIS CHAPTER:MAILTO:aurelie.flandi@gmail.com
SUMMARY:Apéro networking édition nostalgie à Sat
DESCRIPTION:Pour le premier apéro networking de l’année, votre fidèle antenne Vaud-Valais vous a concocté une soirée spéciale! Nous vous attendons pour une édition nostalgie dans notre bar étudiant préféré, Sat… ...
URL:https://epflalumni.ch/fr/group/vaud-valais-chapter/38/calendar/apero-networking-edition-nostalgie-a-sat/2025/01/21/818
BEGIN:VALARM
TRIGGER:-P0DT1H0M0S
ACTION:DISPLAY
END:VALARM
END:VEVENT
END:VCALENDAR