BEGIN:VCALENDAR
VERSION:2.0
PRODID:-//hacksw/handcal//NONSGML v1.0//EN
BEGIN:VEVENT
DTSTART:20241115T173000Z
DTEND:20241115T193000Z
LOCATION:Enoteca Sorsi e Sorrisi \nVia S. Antonio 9 \n6600 Locarno
ORGANIZER;CN=Anna Juda - SOUTHERN SWITZERLAND CHAPTER:MAILTO:annab.juda@gmail.com
SUMMARY:Evénement annulé - Dégustation de vin
DESCRIPTION:L'événement est malheureusement annulé\nChers alumnae et alumni,Nous vous invitons cette fois à découvrir le monde du vin espagnol lors d'une dégustation sous la conduite d'une experte sommelière,...
URL:https://epflalumni.ch/fr/group/southern-switzerland-chapter/67/calendar/evenement-annule-degustation-de-vin/2024/11/15/783
BEGIN:VALARM
TRIGGER:-P0DT1H0M0S
ACTION:DISPLAY
END:VALARM
END:VEVENT
END:VCALENDAR