BEGIN:VCALENDAR
VERSION:2.0
PRODID:-//hacksw/handcal//NONSGML v1.0//EN
BEGIN:VEVENT
DTSTART:20241031T163000Z
DTEND:20241031T193000Z
LOCATION:Creaholic \n115, Rue Centrale \n2503 BIENNE
ORGANIZER;CN=EPFL Alumni - BE-FR-NE-JU CHAPTER:MAILTO:alumni@epfl.ch
SUMMARY:Visite de la fabrique d’innovation Creaholic à Bienne
DESCRIPTION:L’antenne EPFL Alumni Berne-Fribourg-Neuchâtel-Jura vous convie à une visite de la fabrique d’innovation Creaholic à Bienne.Lors de cette visite, vous plongerez pour une soirée dans l’univers...
URL:https://epflalumni.ch/fr/group/be-fr-ne-ju-chapter/46/calendar/visite-de-la-fabrique-d-innovation-creaholic-a-bienne/2024/10/31/764
BEGIN:VALARM
TRIGGER:-P0DT1H0M0S
ACTION:DISPLAY
END:VALARM
END:VEVENT
END:VCALENDAR