BEGIN:VCALENDAR
VERSION:2.0
PRODID:-//hacksw/handcal//NONSGML v1.0//EN
BEGIN:VEVENT
DTSTART:20240706T123000Z
DTEND:20240706T180000Z
LOCATION:Nestlé System Technology Centre Shenzhen Hub
ORGANIZER;CN=EPFL Alumni - CHINA - SHENZHEN / GREATER BAY AREA CHAPTER:MAILTO:alumni@epfl.ch
SUMMARY:Visit at Nestlé System Technology Centre Shenzhen Hub
DESCRIPTION:Dear all EPFL Alumni in China Greater Bay Area, We have the pleasure to invite all of you for the celebration of the creation of the new EPFL Alumni chapter in Shenzhen: EPFL Alumni China Greater Bay ...
URL:https://epflalumni.ch/fr/group/china-shenzhen-greater-bay-area-chapter/71/calendar/visit-at-nestle-system-technology-centre-shenzhen-hub/2024/07/06/714
BEGIN:VALARM
TRIGGER:-P0DT1H0M0S
ACTION:DISPLAY
END:VALARM
END:VEVENT
END:VCALENDAR