BEGIN:VCALENDAR
VERSION:2.0
PRODID:-//hacksw/handcal//NONSGML v1.0//EN
BEGIN:VEVENT
DTSTART:20240509T013000Z
DTEND:20240509T033000Z
LOCATION:Swissnex in San Francisco \nPier 17 The Embarcadero Suite 800 \nCA 94111 San Francisco
ORGANIZER;CN=Azadeh Foyouzi-Mohebbi - U.S. WEST COAST CHAPTER:MAILTO:amohebbi@sbcglobal.net
SUMMARY:“Large language models for enabling constructive online conversations” with Dr. Kristina Gligorić
DESCRIPTION:Dear EPFL alumni and alumnae,\nPlease join us as we welcome, Dr. Kristina Gligorić (EPFL alumna PhD IN'22), Stanford University, on Wednesday, May 8, 2024, 6:30PM-8:30PM, at Swissnex in San Francisco,...
URL:https://epflalumni.ch/fr/group/u-s-west-coast-chapter/48/calendar/-large-language-models-for-enabling-constructive-online-conversations-with-dr-kristina-gligoric/2024/05/09/678
BEGIN:VALARM
TRIGGER:-P0DT1H0M0S
ACTION:DISPLAY
END:VALARM
END:VEVENT
END:VCALENDAR