BEGIN:VCALENDAR
VERSION:2.0
PRODID:-//hacksw/handcal//NONSGML v1.0//EN
BEGIN:VEVENT
DTSTART:20240425T153000Z
DTEND:20240425T193000Z
LOCATION:EPFL - Forum Rolex \n1015 Lausanne
ORGANIZER;CN=EPFL Alumni:MAILTO:alumni@epfl.ch
SUMMARY:Startup Champions Seed Night 2024
DESCRIPTION:(évènement en anglais)\nTHE EVENT IS FULLY BOOKED. YOU CAN JOIN US ONLINE.  Please register through the link to watch the event live online\nEPFL Alumni, EPFL Startup Launchpad and Venturelab are...
URL:https://epflalumni.ch/fr/event/startup-champions-seed-night-2024/2024/04/25/644
BEGIN:VALARM
TRIGGER:-P0DT1H0M0S
ACTION:DISPLAY
END:VALARM
END:VEVENT
END:VCALENDAR