BEGIN:VCALENDAR
VERSION:2.0
PRODID:-//hacksw/handcal//NONSGML v1.0//EN
BEGIN:VEVENT
DTSTART:20231108T140000Z
DTEND:20231108T190000Z
LOCATION:Porsche Museum \nPorscheplatz 1 \n70435 Stuttgart
ORGANIZER;CN=Gilles Savary - GERMANY CHAPTER:MAILTO:gilles.a.savary@gmail.com
SUMMARY:Guided Tour of the Assembly Line of the Electric Porsche Taycan, Followed by an Aperitif at the Swiss General Consulate in Stuttgart
DESCRIPTION:When: Wednesday, 8 November 20231st part: 15:00 - 17:30 Visit of the Porsche Museum, Assembly Line of the Taycan, and Paint Shop in Zuffenhausen (in English, max. 10 participants for the visit of the ...
URL:https://epflalumni.ch/fr/group/germany-chapter/45/calendar/guided-tour-of-the-assembly-line-of-the-electric-porsche-taycan-followed-by-an-aperitif-at-the-swiss-general-consulate-in-stuttgart/2023/11/08/520
BEGIN:VALARM
TRIGGER:-P0DT1H0M0S
ACTION:DISPLAY
END:VALARM
END:VEVENT
END:VCALENDAR