BEGIN:VCALENDAR
VERSION:2.0
PRODID:-//hacksw/handcal//NONSGML v1.0//EN
BEGIN:VEVENT
DTSTART:20230315T170000
DTEND:20230315T190000
LOCATION:Istituto Svizzero di Roma - Villa Maraini \n20, Via Liguria \n00187 ROMA
ORGANIZER;CN=EPFL Alumni - ITALY CHAPTER:MAILTO:bullegilis@hotmail.com
SUMMARY:Evènement "La Svizzera Delle Donne"
DESCRIPTION:L'antenne Italie est ravie de vous proposer de participer à un premier événement en 2023 : "La Svizzera Delle Donne" !Organisé par l'Ambassade de Suisse en Italie et l'Istituto Svizzero le 15 mars...
URL:https://epflalumni.ch/fr/group/italy-chapter/30/calendar/evenement-la-svizzera-delle-donne/2023/03/15/341
BEGIN:VALARM
TRIGGER:-P0DT1H0M0S
ACTION:DISPLAY
END:VALARM
END:VEVENT
END:VCALENDAR