BEGIN:VCALENDAR
VERSION:2.0
PRODID:-//hacksw/handcal//NONSGML v1.0//EN
BEGIN:VEVENT
DTSTART:20260430T163000Z
DTEND:20260430T190000Z
LOCATION:UNIL Amphimax \nRte de la Sorge 9 \n1015 Lausanne
ORGANIZER;CN=EPFL Alumni - Sustainability Club:MAILTO:alumni@epfl.ch
SUMMARY:Olivier de Schutter | Deuxième conférence du cycle Transition Juste
DESCRIPTION:Le Centre de compétences en durabilité de l'UNIL poursuit l'exploration des enjeux liés à la Transition Juste avec Olivier De Schutter, professeur de droit international et Rapporteur spécial des...
URL:https://epflalumni.ch/fr/group/sustainability-club/87/calendar/olivier-de-schutter-deuxieme-conference-du-cycle-transition-juste/2026/04/30/1179
BEGIN:VALARM
TRIGGER:-P0DT1H0M0S
ACTION:DISPLAY
END:VALARM
END:VEVENT
END:VCALENDAR