BEGIN:VCALENDAR
VERSION:2.0
PRODID:-//hacksw/handcal//NONSGML v1.0//EN
BEGIN:VEVENT
DTSTART:20260425T110000Z
DTEND:20260425T150000Z
LOCATION:Espace de l’urbanisme horloger \n23, Rue Jaquet-Droz \n2300 LA CHAUX-DE-FONDS
ORGANIZER;CN=Akram Ben Hareez - BE-FR-NE-JU CHAPTER:MAILTO:akram.benhareez@gmail.com
SUMMARY:Visite de La Chaux-de-Fonds et de son urbanisme horloger
DESCRIPTION:L’antenne BE-NE-FR-JU des Alumni de l’EPFL est heureuse de vous proposer une après-midi de découverte à La Chaux-de-Fonds autour de son célèbre urbanisme horloger, inscrit au patrimoine mondial de...
URL:https://epflalumni.ch/fr/group/be-fr-ne-ju-chapter/46/calendar/visite-de-la-chaux-de-fonds-et-de-son-urbanisme-horloger/2026/04/25/1152
BEGIN:VALARM
TRIGGER:-P0DT1H0M0S
ACTION:DISPLAY
END:VALARM
END:VEVENT
END:VCALENDAR