BEGIN:VCALENDAR
VERSION:2.0
PRODID:-//hacksw/handcal//NONSGML v1.0//EN
BEGIN:VEVENT
DTSTART:20260507T150000Z
DTEND:20260507T183000Z
LOCATION:EPFL - Forum Rolex \n1015 Lausanne
ORGANIZER;CN=EPFL Alumni:MAILTO:alumni@epfl.ch
SUMMARY:Startup Champions Seed Night 2026
DESCRIPTION:EPFL Alumni, EPFL Startup Launchpad and Venturelab are delighted to announce the 15th edition of the Startup Champions Seed Night at the Forum Rolex on EPFL campus on Thursday, May 7, 2026!This annual...
URL:https://epflalumni.ch/fr/event/startup-champions-seed-night-2026/2026/05/07/1146
BEGIN:VALARM
TRIGGER:-P0DT1H0M0S
ACTION:DISPLAY
END:VALARM
END:VEVENT
END:VCALENDAR