BEGIN:VCALENDAR
VERSION:2.0
PRODID:-//hacksw/handcal//NONSGML v1.0//EN
BEGIN:VEVENT
DTSTART:20260313T170000Z
DTEND:20260313T190000Z
LOCATION:Locarno \nBarLume \n6600 Locarno
ORGANIZER;CN=Przemyslaw Juda - SOUTHERN SWITZERLAND CHAPTER:MAILTO:przemyslaw.juda@gmail.com
SUMMARY:Afterwork à Locarno
DESCRIPTION:Chères Alumnae et Alumni au Tessin,Rejoignez-nous à un afterwork convivial dans une ambiance décontractée qui se déroulera à la città vecchia à Locarno a BarLume. Le premier tour est offert par EPFL...
URL:https://epflalumni.ch/fr/group/southern-switzerland-chapter/67/calendar/afterwork-a-locarno/2026/03/13/1128
BEGIN:VALARM
TRIGGER:-P0DT1H0M0S
ACTION:DISPLAY
END:VALARM
END:VEVENT
END:VCALENDAR