BEGIN:VCALENDAR
VERSION:2.0
PRODID:-//hacksw/handcal//NONSGML v1.0//EN
BEGIN:VEVENT
DTSTART:20260219T163000Z
DTEND:20260219T190000Z
LOCATION:Café-restaurant Comme à la maison \nRue Abram-Louis-Breguet 13 \n2000 Neuchatel
ORGANIZER;CN=Akram Ben Hareez - BE-FR-NE-JU CHAPTER:MAILTO:akram.benhareez@gmail.com
SUMMARY:Apéritif afterwork à Neuchâtel
DESCRIPTION:La belle énergie de notre rencontre de mi-décembre nous a donné envie de continuer sur cette lancée : on remet ça le 19 février à Neuchâtel !Nous vous donnons rendez-vous cette fois dans une ambiance ...
URL:https://epflalumni.ch/fr/group/be-fr-ne-ju-chapter/46/calendar/aperitif-afterwork-a-neuchatel/2026/02/19/1125
BEGIN:VALARM
TRIGGER:-P0DT1H0M0S
ACTION:DISPLAY
END:VALARM
END:VEVENT
END:VCALENDAR