BEGIN:VCALENDAR
VERSION:2.0
PRODID:-//hacksw/handcal//NONSGML v1.0//EN
BEGIN:VEVENT
DTSTART:20260423T160000Z
DTEND:20260423T180000Z
LOCATION:EPFL - Forum Rolex \n1015 Lausanne
ORGANIZER;CN=EPFL Alumni:MAILTO:alumni@epfl.ch
SUMMARY:Ig Nobel Award Tour Show 2026
DESCRIPTION:Les prix Ig Nobel honorent une recherche qui fait rire puis réfléchir.\n L'EPFL et le PRN MARVEL ont le plaisir de vous inviter pour la septième fois à ce spectacle public et gratuit, en anglais.\nDes...
URL:https://epflalumni.ch/fr/event/ig-nobel-award-tour-show-2026/2026/04/23/1112
BEGIN:VALARM
TRIGGER:-P0DT1H0M0S
ACTION:DISPLAY
END:VALARM
END:VEVENT
END:VCALENDAR