BEGIN:VCALENDAR
VERSION:2.0
PRODID:-//hacksw/handcal//NONSGML v1.0//EN
BEGIN:VEVENT
DTSTART:20260908T160000Z
DTEND:20260908T180000Z
LOCATION:Fribourg ou Berne à confirmer
ORGANIZER;CN=Anita Maric Fasel - WOMEN'S CLUB:MAILTO:anita.maric.fasel@gmail.com
SUMMARY:Apéritif de networking
DESCRIPTION:Plus d'informations en août 2026
URL:https://epflalumni.ch/fr/group/women-s-club/34/calendar/aperitif-de-networking/2026/09/08/1104
BEGIN:VALARM
TRIGGER:-P0DT1H0M0S
ACTION:DISPLAY
END:VALARM
END:VEVENT
END:VCALENDAR