BEGIN:VCALENDAR
VERSION:2.0
PRODID:-//hacksw/handcal//NONSGML v1.0//EN
BEGIN:VEVENT
DTSTART:20251228T040000Z
DTEND:20251228T080000Z
LOCATION:Abby Road Restaurant \nXuhui District
ORGANIZER;CN=Zhanbing Ren - CHINA - SHANGHAI CHAPTER:MAILTO:zbren2011@gmail.com
SUMMARY:2025 Year-End Gathering
DESCRIPTION:Dear all EPFL alumni and alumnae in Shanghai area,As the year 2025 draws to a close and 2026 approaches, the EPFL Shanghai Alumni Chapter warmly invites everyone to gather under the Parasol trees on...
URL:https://epflalumni.ch/fr/group/china-shanghai-chapter/39/calendar/2025-year-end-gathering/2025/12/28/1096
BEGIN:VALARM
TRIGGER:-P0DT1H0M0S
ACTION:DISPLAY
END:VALARM
END:VEVENT
END:VCALENDAR