BEGIN:VCALENDAR
VERSION:2.0
PRODID:-//hacksw/handcal//NONSGML v1.0//EN
BEGIN:VEVENT
DTSTART:20260114T173000Z
DTEND:20260114T203000Z
LOCATION:Casa Certo \n5, Strassburgstrasse \n8004 ZURICH
ORGANIZER;CN=Damien Nguyen - EASTERN SWITZERLAND CHAPTER:MAILTO:ngn.damien@gmail.com
SUMMARY:Apéro networking à Zurich
DESCRIPTION:L’antenne EPFL Alumni Suisse orientale vous propose de bien commencer l’année en retrouvant d’autres diplômés et diplômées de l’EPFL autour d’un apéro convivial dans un bar de Zurich. Les étudiants et...
URL:https://epflalumni.ch/fr/group/eastern-switzerland-chapter/27/calendar/apero-networking-a-zurich/2026/01/14/1094
BEGIN:VALARM
TRIGGER:-P0DT1H0M0S
ACTION:DISPLAY
END:VALARM
END:VEVENT
END:VCALENDAR