BEGIN:VCALENDAR
VERSION:2.0
PRODID:-//hacksw/handcal//NONSGML v1.0//EN
BEGIN:VEVENT
DTSTART:20260815T080000Z
DTEND:20260815T150000Z
LOCATION:Val d'Hérens \n1985 Ferpècle
ORGANIZER;CN=Jürg Furrer - VAUD/VALAIS CHAPTER:MAILTO:juerg.furrer.ch@gmail.com
SUMMARY:Randonnée pédestre dans la vallée d'Hérens (VS) à Ferpècle (glaciers de Ferpècle et du Mont Miné)
DESCRIPTION:Visite des glaciers de Ferpècle et du Mont Miné dans le Val d'Hérens (VS)Nous avons le plaisir de vous inviter à une visite aux glaciers de Ferpècle et du Mont Miné, dans le Val d’Hérens, le samedi 15...
URL:https://epflalumni.ch/fr/group/vaud-valais-chapter/38/calendar/randonnee-pedestre-dans-la-vallee-d-herens-vs-a-ferpecle-glaciers-de-ferpecle-et-du-mont-mine/2026/08/15/1092
BEGIN:VALARM
TRIGGER:-P0DT1H0M0S
ACTION:DISPLAY
END:VALARM
END:VEVENT
END:VCALENDAR