BEGIN:VCALENDAR
VERSION:2.0
PRODID:-//hacksw/handcal//NONSGML v1.0//EN
BEGIN:VEVENT
DTSTART:20251216T170000Z
DTEND:20251216T200000Z
LOCATION:Mucho Bar \nAv. de la Gare 1 \n2000 Neuchatel
ORGANIZER;CN=Akram Ben Hareez - BE-FR-NE-JU CHAPTER:MAILTO:akram.benhareez@gmail.com
SUMMARY:Afterwork fin d'année à Neuchâtel
DESCRIPTION:Pour clôturer l’année en beauté, votre antenne Neuchâtel vous invite à une édition de Noël latine chaleureuse et festive ! Rejoignez-nous au Mucho Bar pour un apéro convivial où saveurs, ambiance...
URL:https://epflalumni.ch/fr/group/be-fr-ne-ju-chapter/46/calendar/afterwork-fin-d-annee-a-neuchatel/2025/12/16/1084
BEGIN:VALARM
TRIGGER:-P0DT1H0M0S
ACTION:DISPLAY
END:VALARM
END:VEVENT
END:VCALENDAR