BEGIN:VCALENDAR
VERSION:2.0
PRODID:-//hacksw/handcal//NONSGML v1.0//EN
BEGIN:VEVENT
DTSTART:20251203T144500Z
DTEND:20251203T163000Z
LOCATION:Aéroport de Zurich \nFlughafenstrasse \n8302 KLOTEN
ORGANIZER;CN=Damien Nguyen - EASTERN SWITZERLAND CHAPTER:MAILTO:ngn.damien@gmail.com
SUMMARY:Visite guidée de la maintenance de l'aéroport de Zürich et apéritif de Noël
DESCRIPTION:L'antenne EPFL Alumni Suisse orientale vous invite cordialement à la visite du site de maintenance de l'aéroport et à l'apéritif de Noël.Cette toute nouvelle visite est l'occasion de découvrir le...
URL:https://epflalumni.ch/fr/group/eastern-switzerland-chapter/27/calendar/visite-guidee-de-la-maintenance-de-l-aeroport-de-zurich-et-aperitif-de-noel/2025/12/03/1075
BEGIN:VALARM
TRIGGER:-P0DT1H0M0S
ACTION:DISPLAY
END:VALARM
END:VEVENT
END:VCALENDAR