BEGIN:VCALENDAR
VERSION:2.0
PRODID:-//hacksw/handcal//NONSGML v1.0//EN
BEGIN:VEVENT
DTSTART:20251126T170000Z
DTEND:20251126T200000Z
LOCATION:Le Cintra Music Bar \n10, Boulevard de Pérolles \n1700 FRIBOURG
ORGANIZER;CN=Alessio Quagliariello - BE-FR-NE-JU CHAPTER:MAILTO:alessio.quagliariello@gmail.com
SUMMARY:Afterwork Networking à Fribourg
DESCRIPTION:L'antenne EPFL Alumni BE-FR-NE-JU vous invite à un afterwork networking à Fribourg le Mercredi 26 novembre 2025 à 18h00.\nLieuLe Cintra Music Bar\nBd de Pérolles 10,\n1700 Fribourg\nParticipationLa...
URL:https://epflalumni.ch/fr/group/be-fr-ne-ju-chapter/46/calendar/afterwork-networking-a-fribourg/2025/11/26/1071
BEGIN:VALARM
TRIGGER:-P0DT1H0M0S
ACTION:DISPLAY
END:VALARM
END:VEVENT
END:VCALENDAR