BEGIN:VCALENDAR
VERSION:2.0
PRODID:-//hacksw/handcal//NONSGML v1.0//EN
BEGIN:VEVENT
DTSTART:20260602T160000Z
DTEND:20260602T193000Z
LOCATION:Lausanne \n6, Place de l'Europe \n1003 LAUSANNE
ORGANIZER;CN=Jürg Furrer - VAUD/VALAIS CHAPTER:MAILTO:juerg.furrer.ch@gmail.com
SUMMARY:Apéro networking (JUIN 2026) au MAD Roof Top à Lausanne
DESCRIPTION:Votre antenne Vaud-Valais vous attend pour son apéro de réseautage le mardi 2 juin 2026 au MAD Roof Top à Lausanne. Venez partager quelques verres et grignoter des tapas en toute simplicité et dans la...
URL:https://epflalumni.ch/fr/group/vaud-valais-chapter/38/calendar/apero-networking-juin-2026-au-mad-roof-top-a-lausanne/2026/06/02/1056
BEGIN:VALARM
TRIGGER:-P0DT1H0M0S
ACTION:DISPLAY
END:VALARM
END:VEVENT
END:VCALENDAR