BEGIN:VCALENDAR
VERSION:2.0
PRODID:-//hacksw/handcal//NONSGML v1.0//EN
BEGIN:VEVENT
DTSTART:20260326T170000Z
DTEND:20260326T200000Z
LOCATION:Ecole 42 \n64, Rue de Lausanne \n1020 RENENS
ORGANIZER;CN=Jürg Furrer - VAUD/VALAIS CHAPTER:MAILTO:juerg.furrer.ch@gmail.com
SUMMARY:Visite de l'Ecole 42 de Lausanne. OSER. CODER. APPRENDRE.
DESCRIPTION:EPFL Alumni Vaud-Valais vous convie à une visite de l’Ecole 42 à Renens le jeudi 26 mars 2026.Immersion à 42 Lausanne, l'école qui casse les codes. Pas de profs, pas de cours, pas d'horaires, vous en ...
URL:https://epflalumni.ch/fr/group/vaud-valais-chapter/38/calendar/visite-de-l-ecole-42-de-lausanne-oser-coder-apprendre/2026/03/26/1051
BEGIN:VALARM
TRIGGER:-P0DT1H0M0S
ACTION:DISPLAY
END:VALARM
END:VEVENT
END:VCALENDAR