BEGIN:VCALENDAR
VERSION:2.0
PRODID:-//hacksw/handcal//NONSGML v1.0//EN
BEGIN:VEVENT
DTSTART:20251121T230000Z
DTEND:20251122T010000Z
LOCATION:Satellite Bar \n877 Cambridge St \n02141 Cambridge
ORGANIZER;CN=Clara Scherrer - BOSTON CHAPTER:MAILTO:scherrerclara@gmail.com
SUMMARY:EPFL Alumni Boston – Friendsgiving at Satellite Bar
DESCRIPTION:Attention: change of datePlease note the new date for our EPFL Friendsgiving: Friday, November 21.The change allows our community to also join the Swiss Alumni Night hosted by Swissnex Boston on...
URL:https://epflalumni.ch/fr/group/boston-chapter/43/calendar/epfl-alumni-boston-friendsgiving-at-satellite-bar/2025/11/22/1047
BEGIN:VALARM
TRIGGER:-P0DT1H0M0S
ACTION:DISPLAY
END:VALARM
END:VEVENT
END:VCALENDAR