BEGIN:VCALENDAR
VERSION:2.0
PRODID:-//hacksw/handcal//NONSGML v1.0//EN
BEGIN:VEVENT
DTSTART:20251211T173000Z
DTEND:20251211T213000Z
LOCATION:Société de Lecture \nGrand-Rue 11 \n1204 Genève
ORGANIZER;CN=Matthieu George - GENEVA CHAPTER:MAILTO:matthieu.george@gmail.com
SUMMARY:Traditionnel cocktail dinatoire de l'Escalade en présence de la Présidente de l'EPFL, Professeure Anna Fontcuberta i Morral
DESCRIPTION:L'EPFL Alumni Genève a le plaisir de vous inviter à son traditionnel cocktail dinatoire de l'Escalade qui aura lieu dans les salons historiques de la Société de Lecture le jeudi 11 décembre à partir...
URL:https://epflalumni.ch/fr/group/geneva-chapter/37/calendar/traditionnel-cocktail-dinatoire-de-l-escalade-en-presence-de-la-presidente-de-l-epfl-professeure-anna-fontcuberta-i-morral/2025/12/11/1042
BEGIN:VALARM
TRIGGER:-P0DT1H0M0S
ACTION:DISPLAY
END:VALARM
END:VEVENT
END:VCALENDAR