BEGIN:VCALENDAR
VERSION:2.0
PRODID:-//hacksw/handcal//NONSGML v1.0//EN
BEGIN:VEVENT
DTSTART:20260225T170000Z
DTEND:20260225T210000Z
LOCATION:EPFL Valais Wallis \n17, Rue de l'Industrie \n1950 SION
ORGANIZER;CN=Jürg Furrer - VAUD/VALAIS CHAPTER:MAILTO:juerg.furrer.ch@gmail.com
SUMMARY:Transition énergétique suisse : à vous d'essayer ! WORKSHOP interactif PowerPlay (Sion)
DESCRIPTION:L'Antenne EPFL Alumni Vaud-Valais vous convie à un workshop à Sion le mercredi 25 février 2026 sur le campus EPFL Valais-Wallis.À travers le serious game PowerPlay, les participant-es pourront mieux...
URL:https://epflalumni.ch/fr/group/vaud-valais-chapter/38/calendar/transition-energetique-suisse-a-vous-d-essayer-workshop-interactif-powerplay-sion/2026/02/25/1040
BEGIN:VALARM
TRIGGER:-P0DT1H0M0S
ACTION:DISPLAY
END:VALARM
END:VEVENT
END:VCALENDAR