BEGIN:VCALENDAR
VERSION:2.0
PRODID:-//hacksw/handcal//NONSGML v1.0//EN
BEGIN:VEVENT
DTSTART:20251028T170000Z
DTEND:20251028T190000Z
LOCATION:Ambasciata di Svizzera \nVia Barnaba Oriani 61 \n00197 Roma
ORGANIZER;CN=Adrien Mulon - ITALY CHAPTER:MAILTO:adrien.mulon@gmail.com
SUMMARY:Swiss Alumni Gathering 2025 in Rome
DESCRIPTION:Dear EPFL alumni, alumnae and students in exchange in Italy,We are pleased to share with you the details of our next event, that will take place in a special location: in the Swiss Embassy in Rome!...
URL:https://epflalumni.ch/fr/group/italy-chapter/30/calendar/swiss-alumni-gathering-2025-in-rome/2025/10/28/1039
BEGIN:VALARM
TRIGGER:-P0DT1H0M0S
ACTION:DISPLAY
END:VALARM
END:VEVENT
END:VCALENDAR