BEGIN:VCALENDAR
VERSION:2.0
PRODID:-//hacksw/handcal//NONSGML v1.0//EN
BEGIN:VEVENT
DTSTART:20251029T171500Z
DTEND:20251029T200000Z
LOCATION:EPFL - Salle MED 0 1618
ORGANIZER;CN=Valentine Magnin - WOMEN'S CLUB:MAILTO:valentine.magnin92@gmail.com
SUMMARY:Accueil des nouvelles diplômées : Comment bien débuter et poursuivre sa carrière
DESCRIPTION:Chères alumnae,Nous avons le plaisir de vous inviter à une soirée apéro-networking dédiée à l'accueil des nouvelles alumnae, le mercredi 29 octobre dès 18h15. Ce moment convivial sera l'occasion...
URL:https://epflalumni.ch/fr/group/women-s-club/34/calendar/accueil-des-nouvelles-diplomees-comment-bien-debuter-et-poursuivre-sa-carriere/2025/10/29/1037
BEGIN:VALARM
TRIGGER:-P0DT1H0M0S
ACTION:DISPLAY
END:VALARM
END:VEVENT
END:VCALENDAR