BEGIN:VCALENDAR
VERSION:2.0
PRODID:-//hacksw/handcal//NONSGML v1.0//EN
BEGIN:VEVENT
DTSTART:20251105T163000Z
DTEND:20251105T210000Z
LOCATION:ETH Zürich Campus LEE Building - Raum LEE E101 \n21, Leonhardstrasse \n8092 ZURICH
ORGANIZER;CN=Giulia Albonico - EASTERN SWITZERLAND CHAPTER:MAILTO:giulia.albonico@protonmail.com
SUMMARY:Assemblée Générale 2025 & Conférence "Environment Management in Mining and Processing"
DESCRIPTION:En brefL'association EPFL Alumni Suisse orientale vous invite cordialement à venir participer à son assemblée générale 2025 dans l’auditoire LEE E101 situé dans le bâtiment LEE de l’ETH...
URL:https://epflalumni.ch/fr/group/eastern-switzerland-chapter/27/calendar/assemblee-generale-2025-conference-environment-management-in-mining-and-processing/2025/11/05/1029
BEGIN:VALARM
TRIGGER:-P0DT1H0M0S
ACTION:DISPLAY
END:VALARM
END:VEVENT
END:VCALENDAR