BEGIN:VCALENDAR
VERSION:2.0
PRODID:-//hacksw/handcal//NONSGML v1.0//EN
BEGIN:VEVENT
DTSTART:20251030T160000Z
DTEND:20251030T190000Z
LOCATION:EPFL - Forum Rolex \n1015 Lausanne
ORGANIZER;CN=EPFL Alumni:MAILTO:alumni@epfl.ch
SUMMARY:Human-Centered AI Symposium
DESCRIPTION:As artificial intelligence (AI) increasingly influences health, work, education, and daily life, the question is no longer just what technology can do, but what it should do. This symposium invites...
URL:https://epflalumni.ch/fr/event/human-centered-ai-symposium/2025/10/30/1025
BEGIN:VALARM
TRIGGER:-P0DT1H0M0S
ACTION:DISPLAY
END:VALARM
END:VEVENT
END:VCALENDAR