BEGIN:VCALENDAR
VERSION:2.0
PRODID:-//hacksw/handcal//NONSGML v1.0//EN
BEGIN:VEVENT
DTSTART:20251009T160000Z
DTEND:20251009T193000Z
LOCATION:CERN \nEsplanade des Particules \n1217 MEYRIN
ORGANIZER;CN=Sarah Fleury - GENEVA CHAPTER:MAILTO:sar.fleury@gmail.com
SUMMARY:Visite exclusive du CERN: IT STRING et SMA18
DESCRIPTION:Cette année, nous sommes de retour au CERN — et l’organisation n’a pas fini de vous étonner !Nous vous proposons une visite du Point 18, où de nombreuses activités essentielles à la production et aux ...
URL:https://epflalumni.ch/fr/group/geneva-chapter/37/calendar/visite-exclusive-du-cern-it-string-et-sma18/2025/10/09/1020
BEGIN:VALARM
TRIGGER:-P0DT1H0M0S
ACTION:DISPLAY
END:VALARM
END:VEVENT
END:VCALENDAR