BEGIN:VCALENDAR
VERSION:2.0
PRODID:-//hacksw/handcal//NONSGML v1.0//EN
BEGIN:VEVENT
DTSTART:20250916T160000Z
DTEND:20250916T203000Z
LOCATION:Tropical Corner \nQuai de Cologny 5 - 9 \n1223 Cologny
ORGANIZER;CN=Guillaume Locher - GENEVA CHAPTER:MAILTO:guillaume@locher-ge.ch
SUMMARY:Windsurfing and afterwork drinks at Tropical Corner
DESCRIPTION:EPFL Alumni Geneva is pleased to invite you to an introduction to windsurfing. This event will take place on Tuesday, September 16 at 5:15 p.m. at the Tropical Corner.This introduction will be...
URL:https://epflalumni.ch/en/group/geneva-chapter/37/calendar/windsurfing-and-afterwork-drinks-at-tropical-corner/2025/09/16/999
BEGIN:VALARM
TRIGGER:-P0DT1H0M0S
ACTION:DISPLAY
END:VALARM
END:VEVENT
END:VCALENDAR