BEGIN:VCALENDAR
VERSION:2.0
PRODID:-//hacksw/handcal//NONSGML v1.0//EN
BEGIN:VEVENT
DTSTART:20250918T160000Z
DTEND:20250918T183000Z
LOCATION:East Campus USI-SUPSI \nVia la Santa 1 \nCH-6962  Lugano-Viganello
ORGANIZER;CN=Anna Juda - SOUTHERN SWITZERLAND CHAPTER:MAILTO:annab.juda@gmail.com
SUMMARY:Save the Date – Visit to the Artificial Intelligence Institute USI‑SUPSI
DESCRIPTION:Dear alumni and alaumnae,Summer is here, our bodies are on the beach… but our minds are already preparing the next gathering of our Alumni community!We are delighted to invite you already now to our...
URL:https://epflalumni.ch/en/group/southern-switzerland-chapter/67/calendar/save-the-date-visit-to-the-artificial-intelligence-institute-usi-supsi/2025/09/18/989
BEGIN:VALARM
TRIGGER:-P0DT1H0M0S
ACTION:DISPLAY
END:VALARM
END:VEVENT
END:VCALENDAR