BEGIN:VCALENDAR
VERSION:2.0
PRODID:-//hacksw/handcal//NONSGML v1.0//EN
BEGIN:VEVENT
DTSTART:20250710T154500Z
DTEND:20250710T174500Z
LOCATION:Park Café \nSophienstraße 7 \n80333 Munich
ORGANIZER;CN=Olivier Schuepbach - GERMANY CHAPTER:MAILTO:oschuepbach@yahoo.com
SUMMARY:Munich Meet & Drinks
DESCRIPTION:Dear EPFL alumni and alumnae in and around Munich,We would be delighted to seeing you at the EPFL Alumni Munich Meet & Drinks event, taking place on Thursday July 10th 2025 from 17:45 onwards in...
URL:https://epflalumni.ch/en/group/germany-chapter/45/calendar/munich-meet-drinks/2025/07/10/978
BEGIN:VALARM
TRIGGER:-P0DT1H0M0S
ACTION:DISPLAY
END:VALARM
END:VEVENT
END:VCALENDAR