BEGIN:VCALENDAR
VERSION:2.0
PRODID:-//hacksw/handcal//NONSGML v1.0//EN
BEGIN:VEVENT
DTSTART:20250703T160000Z
DTEND:20250703T180000Z
LOCATION:Café Mozart \n2, Rue de la Grotte \n1003 LAUSANNE
ORGANIZER;CN=Valentine Magnin - WOMEN'S CLUB:MAILTO:valentine.magnin92@gmail.com
SUMMARY:Lausanne Summer Apéro
DESCRIPTION:It's now been 3 years since our famous summer apéro has been taking place! We are excited to invite you for the 4th edition of this unmissable early-summer event.This year, we're changing location and...
URL:https://epflalumni.ch/en/group/women-s-club/34/calendar/lausanne-summer-apero/2025/07/03/966
BEGIN:VALARM
TRIGGER:-P0DT1H0M0S
ACTION:DISPLAY
END:VALARM
END:VEVENT
END:VCALENDAR