BEGIN:VCALENDAR
VERSION:2.0
PRODID:-//hacksw/handcal//NONSGML v1.0//EN
BEGIN:VEVENT
DTSTART:20250512T173000Z
DTEND:20250512T193000Z
LOCATION:Bellinzona - Grottino Ticinese \n1, Via Luigi Lavizzari \n6500 BELLINZONA
ORGANIZER;CN=Anna Juda - SOUTHERN SWITZERLAND CHAPTER:MAILTO:annab.juda@gmail.com
SUMMARY:Dinner with the EPFL President – May 12 in Bellinzona
DESCRIPTION:Dear EPFL Alumni,We are delighted to invite you to a special dinner:\nAnna Fontcuberta i Morral, President of EPFL, will be with us in Ticino on Monday, May 12, 2025, at Grottino Ticinese in...
URL:https://epflalumni.ch/en/group/southern-switzerland-chapter/67/calendar/dinner-with-the-epfl-president-may-12-in-bellinzona/2025/05/12/932
BEGIN:VALARM
TRIGGER:-P0DT1H0M0S
ACTION:DISPLAY
END:VALARM
END:VEVENT
END:VCALENDAR