BEGIN:VCALENDAR
VERSION:2.0
PRODID:-//hacksw/handcal//NONSGML v1.0//EN
BEGIN:VEVENT
DTSTART:20250329T053000Z
DTEND:20250329T120000Z
LOCATION:China Overseas Huizhi Tower \nNo. 7 Qingshuihe 3rd Road, Luohu District
ORGANIZER;CN=Shiyu Cheng - CHINA - SHENZHEN / GREATER BAY AREA CHAPTER:MAILTO:
SUMMARY:Alumni Gathering in Shenzhen
DESCRIPTION:Dear all EPFL alumni and alumnae,\nWe are pleased to invite all of you to join the EPFL Alumni Shenzhen & Greater Bay Area (GBA) gathering:\nDate: Saturday, March 29, 2025\nTime:13h30-20h00 (with...
URL:https://epflalumni.ch/en/group/china-shenzhen-greater-bay-area-chapter/71/calendar/alumni-gathering-in-shenzhen/2025/03/29/923
BEGIN:VALARM
TRIGGER:-P0DT1H0M0S
ACTION:DISPLAY
END:VALARM
END:VEVENT
END:VCALENDAR